BEGIN:VCALENDAR
VERSION:2.0
PRODID:-//ITF-USA - ECPv6.15.20//NONSGML v1.0//EN
CALSCALE:GREGORIAN
METHOD:PUBLISH
X-ORIGINAL-URL:https://itf-usa.org
X-WR-CALDESC:Events for ITF-USA
REFRESH-INTERVAL;VALUE=DURATION:PT1H
X-Robots-Tag:noindex
X-PUBLISHED-TTL:PT1H
BEGIN:VTIMEZONE
TZID:America/New_York
BEGIN:DAYLIGHT
TZOFFSETFROM:-0500
TZOFFSETTO:-0400
TZNAME:EDT
DTSTART:20210314T070000
END:DAYLIGHT
BEGIN:STANDARD
TZOFFSETFROM:-0400
TZOFFSETTO:-0500
TZNAME:EST
DTSTART:20211107T060000
END:STANDARD
BEGIN:DAYLIGHT
TZOFFSETFROM:-0500
TZOFFSETTO:-0400
TZNAME:EDT
DTSTART:20220313T070000
END:DAYLIGHT
BEGIN:STANDARD
TZOFFSETFROM:-0400
TZOFFSETTO:-0500
TZNAME:EST
DTSTART:20221106T060000
END:STANDARD
BEGIN:DAYLIGHT
TZOFFSETFROM:-0500
TZOFFSETTO:-0400
TZNAME:EDT
DTSTART:20230312T070000
END:DAYLIGHT
BEGIN:STANDARD
TZOFFSETFROM:-0400
TZOFFSETTO:-0500
TZNAME:EST
DTSTART:20231105T060000
END:STANDARD
BEGIN:DAYLIGHT
TZOFFSETFROM:-0500
TZOFFSETTO:-0400
TZNAME:EDT
DTSTART:20240310T070000
END:DAYLIGHT
BEGIN:STANDARD
TZOFFSETFROM:-0400
TZOFFSETTO:-0500
TZNAME:EST
DTSTART:20241103T060000
END:STANDARD
BEGIN:DAYLIGHT
TZOFFSETFROM:-0500
TZOFFSETTO:-0400
TZNAME:EDT
DTSTART:20250309T070000
END:DAYLIGHT
BEGIN:STANDARD
TZOFFSETFROM:-0400
TZOFFSETTO:-0500
TZNAME:EST
DTSTART:20251102T060000
END:STANDARD
BEGIN:DAYLIGHT
TZOFFSETFROM:-0500
TZOFFSETTO:-0400
TZNAME:EDT
DTSTART:20260308T070000
END:DAYLIGHT
BEGIN:STANDARD
TZOFFSETFROM:-0400
TZOFFSETTO:-0500
TZNAME:EST
DTSTART:20261101T060000
END:STANDARD
END:VTIMEZONE
BEGIN:VTIMEZONE
TZID:America/Chicago
BEGIN:DAYLIGHT
TZOFFSETFROM:-0600
TZOFFSETTO:-0500
TZNAME:CDT
DTSTART:20230312T080000
END:DAYLIGHT
BEGIN:STANDARD
TZOFFSETFROM:-0500
TZOFFSETTO:-0600
TZNAME:CST
DTSTART:20231105T070000
END:STANDARD
BEGIN:DAYLIGHT
TZOFFSETFROM:-0600
TZOFFSETTO:-0500
TZNAME:CDT
DTSTART:20240310T080000
END:DAYLIGHT
BEGIN:STANDARD
TZOFFSETFROM:-0500
TZOFFSETTO:-0600
TZNAME:CST
DTSTART:20241103T070000
END:STANDARD
BEGIN:DAYLIGHT
TZOFFSETFROM:-0600
TZOFFSETTO:-0500
TZNAME:CDT
DTSTART:20250309T080000
END:DAYLIGHT
BEGIN:STANDARD
TZOFFSETFROM:-0500
TZOFFSETTO:-0600
TZNAME:CST
DTSTART:20251102T070000
END:STANDARD
END:VTIMEZONE
BEGIN:VEVENT
DTSTART;VALUE=DATE:20250209
DTEND;VALUE=DATE:20250210
DTSTAMP:20260421T165906
CREATED:20250126T045516Z
LAST-MODIFIED:20250126T045516Z
UID:6342-1739059200-1739145599@itf-usa.org
SUMMARY:International Master Class - Dominican Republic
DESCRIPTION:On the 9th of February Master Seth Rattet and Mr. Sandy Blanco will travel to the Dominican Republic to teach a FREE Seminar. \nOrganizers are looking for donations to cover: \n\ntravel expenses\ntraining supplies for local attendees including uniforms.\nscholarship funds for locals to compete in ITF-USA tournaments.
URL:https://itf-usa.org/event/international-master-class-dominican-republic/
CATEGORIES:Seminar
ATTACH;FMTTYPE=image/jpeg:https://itf-usa.org/wp-content/uploads/2025/01/001-Sandy-Blaco-EVent.jpg
ORGANIZER;CN="Team Sandy Blanco Taekwon-Do Group":MAILTO:srattet@hotmail.com
END:VEVENT
BEGIN:VEVENT
DTSTART;TZID=America/New_York:20241025T080000
DTEND;TZID=America/New_York:20241027T170000
DTSTAMP:20260421T165906
CREATED:20240910T194934Z
LAST-MODIFIED:20240910T194934Z
UID:5781-1729843200-1730048400@itf-usa.org
SUMMARY:ITFA Oklahoma IIC & Master Class
DESCRIPTION:ITFA Taekwon-Do Oklahoma will be hosting the 3rd Annual USA ITFA International Instructor Course (IIC) for 2024. The IIC will run on Friday 25th\, Saturday 26th and Sunday 27th October 2024\, taught by ITFA Founder and Chief Instructor\, Senior Master Andrew K H Rhee\, VIII Dan. \nThese events are open to all practitioners regardless of affiliation. \nThe IIC is for all grades from 2nd Kup (Red Belt) and above. \nThe Master Class is for all grades from 9th Kup (Yellow Stripe) and above. The Master Class will run concurrently with the Sunday morning IIC session\, 9am-12pm. \n\nThe eldest son of First Grand Master Rhee Ki Ha (FGMR) & former Personal Assistant to Founder of Taekwon-Do\, General Choi Hong Hi\, Senior Master Rhee (8th Dan) has dedicated his entire life to the art of Taekwon-Do\, and we are fortunate to have him returning for the second year in a row to Broken Arrow\, Oklahoma.\n\nFor more on SMR\, please visit: https://www.itfa.com.au/about-us/senior-master-rhee-viii-dan/\n\nFor any questions\, please message Mr Kristoffer Morrison\, III Dan\, at kmorrison@itfa.us OR Text/Call 918-553-0377\n\nSchedule\n\nThursday October 24th\n\n6pm-9pm – Color Belt Grading\n\n\nFriday October 25th\n\n2pm-5pm – Senior Instructor Training (By invite only)\n\nLOCATION: 732 W New Orleans St\, Suite 136\, Broken Arrow\, OK 74011\n\n\n7.00pm – International Instructor Course Dinner\n\nLOCATION: TBC\nFormal Dress Required:\n\nShirt and Tie for Gentlemen\nShirt and Tie or Cocktail Attire for Ladies\nFeel free to message me with any questions!\n\n\n\n\n\n\nSaturday October 26th\n\n9am – 12pm – IIC Session 1\n12pm – 2pm – Lunch\n2pm – 5pm – IIC Session 2\n\n\nSunday October 27th\n\n9am – 12pm – IIC Session 3 / Master Class\n12pm-2pm – Lunch\n2pm – 4pm – Black Belt Grading OPTIONAL\n\nIt is optional for you to stay and watch the Black Belt Grading but you are more than welcome to.\n\n\n\n\n\nKey Locations\n\nDojang: 732 W New Orleans St\, Suite 136\, Broken Arrow\, 74011 OK\n\n\nEARLY BIRD PRICING $199 for ITFA and ITF-USA Members until September 30th\, 2024\n\nNON ITFA\, ITF-USA Members $229 EARLY BIRD
URL:https://itf-usa.org/event/itfa-oklahoma-iic-master-class/
LOCATION:ITFA Taekwon-Do Oklahoma\, 732 W New Orleans St\, Suite 136\, Broken Arrow\, OK\, 74011\, United States
CATEGORIES:Seminar,Training
ATTACH;FMTTYPE=image/png:https://itf-usa.org/wp-content/uploads/2024/09/IMG_2694.png
ORGANIZER;CN="Kris Morrison":MAILTO:kmorrison@itfa.us
END:VEVENT
BEGIN:VEVENT
DTSTART;TZID=America/New_York:20241019T090000
DTEND;TZID=America/New_York:20241019T170000
DTSTAMP:20260421T165906
CREATED:20240910T195439Z
LAST-MODIFIED:20240912T173836Z
UID:5774-1729328400-1729357200@itf-usa.org
SUMMARY:Senior Master Rhee - San Jose Master Class
DESCRIPTION:The eldest son of First Grand Master Rhee Ki Ha (FGMR) & former Personal Assistant to Founder of Taekwon-Do\, General Choi Hong Hi\, Senior Master Rhee (8th Dan) has dedicated his entire life to the art of Taekwon-Do\, and we are fortunate to have him hosting a Master Class for Color Belts and Black Belts in San Jose on October 19th\, 2024.\n\nFor information on the Seminar please visit: https://smrhee.mightyfist.com/\nFor more on SMR\, please visit: https://www.itfa.com.au/about-us/senior-master-rhee-viii-dan/\n\nContact Master Jason Morris for more information: seminar@mightyfist.com
URL:https://itf-usa.org/event/senior-master-rhee-san-jose-master-class/
LOCATION:Mightyfist Taekwon-Do\, 1072 S De Anza Blvd Ste. A105\, San Jose\, CA\, 95129\, United States
CATEGORIES:Seminar,Training
ATTACH;FMTTYPE=image/jpeg:https://itf-usa.org/wp-content/uploads/2024/09/IMG_3599.jpg
ORGANIZER;CN="Jason Morris":MAILTO:admin@mightyfist.com
END:VEVENT
BEGIN:VEVENT
DTSTART;TZID=America/New_York:20240621T150000
DTEND;TZID=America/New_York:20240623T150000
DTSTAMP:20260421T165906
CREATED:20240510T151018Z
LAST-MODIFIED:20240510T151018Z
UID:4976-1718982000-1719154800@itf-usa.org
SUMMARY:GM Van Binh Seminar & Testing
DESCRIPTION:Seminar Schedule June 21\, 22 and 23 \, 2024 \nFriday – June 21\, 2024– 3pm to 6pm: Belt Testing – All grades and belts\nSaturday – June 22 \, 2024 – White Belt through High Green Belt – 9am till 12pm – Self\nDefense (stick &amp; knife\, etc.)\, Patterns\, Step Sparring\, Free Sparring\n1pm – 2pm Pictures and signings with GM Van Binh.\nBlue Belt and higher – 2pm to 5pm: Self-Defense\, (stick\, knife\, etc.)\, Patterns\, Step\nSparring\, Free Sparring &amp; Techniques\, Semi-Free Sparring\nSunday – June 23\, 2024 – 9am – 2pm Warm-ups\, Self Defense\, Sparring\nTechniques\, Patterns &amp; Techniques\, questions\, and answers &amp; Testing.\nAnyone wishing to take the test must fill out form. Open to all levels \nCost for course; White Belt to High Blue $50.00\nCost for course; Red Belt and higher $70.00\nCost to test: White Belt to High Blue Belt: $50.00\nCost to Test; Red to High Red $75.00 \nITF-USA 2024 GM Van Binh Seminar(6)
URL:https://itf-usa.org/event/gm-van-binh-seminar-testing/
LOCATION:White Tiger Taekwon-Do\, 135 Main Street\, Manchester\, CT\, 06042\, United States
CATEGORIES:Seminar
ATTACH;FMTTYPE=image/jpeg:https://itf-usa.org/wp-content/uploads/2024/05/GM-VAN-BINH_poster_V1-01-scaled.jpg
ORGANIZER;CN="Master Kenneth Rattet":MAILTO:masterkrattet@itf-usa.org
END:VEVENT
BEGIN:VEVENT
DTSTART;TZID=America/Chicago:20240607T170000
DTEND;TZID=America/Chicago:20240608T143000
DTSTAMP:20260421T165906
CREATED:20231231T153030Z
LAST-MODIFIED:20240507T132235Z
UID:4167-1717779600-1717857000@itf-usa.org
SUMMARY:Seminar and Black Belt Testing
DESCRIPTION:The Weisberg Taekwon-Do Center will be hosting a seminar and black belt testing on June 7th and 8th\, 2024.  All local and out of town schools\, instructors\, and students are welcome to attend. Please see the following registration form and due dates for the seminar. Tae Kwon! \n \n 
URL:https://itf-usa.org/event/seminar-and-black-belt-testing/
LOCATION:Itasca Park District\, 350 Irving Park Road\, Itasca\, IL\, 60143\, United States
CATEGORIES:Seminar
ATTACH;FMTTYPE=image/jpeg:https://itf-usa.org/wp-content/uploads/2023/12/Blackbelt_Testing_Corrected.jpg
ORGANIZER;CN="Barry Weisberg":MAILTO:weisberg.tkd@gmail.com
END:VEVENT
BEGIN:VEVENT
DTSTART;TZID=America/New_York:20240421T100000
DTEND;TZID=America/New_York:20240421T110000
DTSTAMP:20260421T165907
CREATED:20240421T134521Z
LAST-MODIFIED:20240421T134521Z
UID:4813-1713693600-1713697200@itf-usa.org
SUMMARY:Umpire Crash Course: Warnings and Fouls
DESCRIPTION:Recurring Seminar by the ITF-USA Umpire Committee.
URL:https://itf-usa.org/event/umpire-crash-course-warnings-and-fouls/
LOCATION:Online
CATEGORIES:Seminar
ATTACH;FMTTYPE=image/png:https://itf-usa.org/wp-content/uploads/2024/04/553d2eb5-df98-946f-2e21-bb2e04d7f46a.png
END:VEVENT
BEGIN:VEVENT
DTSTART;VALUE=DATE:20231105
DTEND;VALUE=DATE:20231106
DTSTAMP:20260421T165907
CREATED:20231006T145914Z
LAST-MODIFIED:20231006T145914Z
UID:3863-1699142400-1699228799@itf-usa.org
SUMMARY:Online International "Do" Course - Nov 5th and 19th\, 2023
DESCRIPTION:Fee information is not yet available from the ITF Website – will update soon \nREGISTRATION LINK available soon.
URL:https://itf-usa.org/event/online-international-do-course-nov-5th-and-19th-2023/
LOCATION:Online
CATEGORIES:Seminar
END:VEVENT
BEGIN:VEVENT
DTSTART;TZID=America/New_York:20230826T110000
DTEND;TZID=America/New_York:20230826T133000
DTSTAMP:20260421T165907
CREATED:20230620T145219Z
LAST-MODIFIED:20230620T145219Z
UID:3404-1693047600-1693056600@itf-usa.org
SUMMARY:Tree of Life Martial Arts Summer Seminar
DESCRIPTION:We will be hosting the 2nd Summer Seminar with Ms. Maria Patalinghug from Maryland! August 2th (a Saturday) from 11:00-1:30. Lunch will be provided\, some fun cross training in the art of Eskrima\, and self-defense (Hosinsul). Please RSVP by calling 252-455-0668.  Located at 112 NC Hwy 343 S.\, Camden\, NC 27921.
URL:https://itf-usa.org/event/tree-of-life-martial-arts-summer-seminar/
LOCATION:Tree of Life Martial Arts Training Center\, 112 NC Hwy 343 S\, Camden\, NC\, 27921\, United States
CATEGORIES:Seminar
ORGANIZER;CN="Geoff Watson":MAILTO:watsontkd@yahoo.com
END:VEVENT
BEGIN:VEVENT
DTSTART;TZID=America/New_York:20230721T163000
DTEND;TZID=America/New_York:20230722T193000
DTSTAMP:20260421T165907
CREATED:20230613T133712Z
LAST-MODIFIED:20230613T134557Z
UID:3362-1689957000-1690054200@itf-usa.org
SUMMARY:ETMTKD Tournament
DESCRIPTION:1ST ANNUAL\nEmilia Tambunga Memorial TKD Training Tournament\nOpen to ALL ITF Practitioners \nCompetitors 10th Gup to 1st Gup AND ALL Black Belts to III Dan \nCentral Freshman Campus Gym\n99 East 2nd St. San Angelo\, TX 76903 \nSEMINAR\nFriday\, July 21\, 2023\nTournament Protocols Seminar — 4:30p – 7:30p\nIncluding\, but not limited to:\nPatterns — correctness of form\, facing\, bowing on/off competition floor\, Stances\, speed of pattern\, power\, accuracy\, Judges role\, etc.\nSparring — scoring\, illegal techniques\, ring sizes\, competitor designation\, corner designations\, gear requirements\, warnings\, disqualifications\, etc.\nBoard-breaking — bowing in/out to board-breaking officials\, Measuring\, scoring\, striking tools\, disqualifying events\, etc.\nMiscellaneous — addressing Officials/Black belts\, etc. \nPresenters\nSr. Master Travis Young – VIII Dan Master Frank Galindo – VII Dan\nMr. Tony Paris – VI Dan Ms. Donna Weaver – IV Dan \nTOURNAMENT\nSaturday\, July 22\, 2023\nDoors Open at 8:30 AM\nCheck-In Until 9:00 AM\nLine -Up at 9:00 AM \nFees\nOne\, Any or ALL Events.…..$60 ($75 at the door)\nFriday Evening Tournament Seminar.…$10 ($25 at the door) \nMs. Emilia Tambunga\, a 7 year old CVMAC 7th Gup (green belt) student\, was tragically killed when she and her grandmother\, who was also killed\, were struck by a vehicle driven by a human trafficker who was transporting illegals across Texas on IH 10 traveling West\, near Ozona\, TX. The driver of the vehicle exited IH 10 at Ozona\, to elude Law Enforcement officials who were in pursuit. He was traveling at a speed in excess of 100 mph when he struck the Tambungas who were crossing an intersection at a green light. Both Emilia and her grandmother were killed upon impact. Emilia’s mother\, Elisa\, also trained with us in her youth\, and has wholeheartedly endorsed our Memorial Tournament this summer. Elisa plans to attend our Training Tournament. Subsequent Memorial Tournaments will be held closer to Emilia’s and her grandmother’s death anniversary.
URL:https://itf-usa.org/event/etmtkd-tournament/
LOCATION:Central Freshman Campus Gym\, 99 East 2nd St\, San Angelo\, 76903\, United States
CATEGORIES:Local Tournament,Seminar
ORGANIZER;CN="Frank Galindo":MAILTO:tkdrox7@gmail.com
END:VEVENT
BEGIN:VEVENT
DTSTART;TZID=America/New_York:20230602T180000
DTEND;TZID=America/New_York:20230604T120000
DTSTAMP:20260421T165907
CREATED:20230508T041602Z
LAST-MODIFIED:20230508T042017Z
UID:2845-1685728800-1685880000@itf-usa.org
SUMMARY:2023 Technical Seminar with GM Akard
DESCRIPTION:
URL:https://itf-usa.org/event/2023-technical-seminar-with-gm-akard/
LOCATION:Silver Lining Taekwon-Do\, 3170 Deming Way\, Middleton\, WI\, 53562\, United States
CATEGORIES:Seminar
ORGANIZER;CN="Mathiam Mbow":MAILTO:mmbow@silverliningtkd.com
END:VEVENT
BEGIN:VEVENT
DTSTART;TZID=America/New_York:20230520T170000
DTEND;TZID=America/New_York:20230521T210000
DTSTAMP:20260421T165907
CREATED:20230413T160643Z
LAST-MODIFIED:20230413T163338Z
UID:2653-1684602000-1684702800@itf-usa.org
SUMMARY:ITF Online Umpire Course
DESCRIPTION:The ITF Umpire Committee and the ITF IT Committee offer a joint online course to qualify as an ITF IT-Umpire for international ITF competitions. \nFor further information\, please read the full invitation. \n230520_Invitation_Online_IT-Umpire_Course
URL:https://itf-usa.org/event/itf-online-umpire-course/
CATEGORIES:Seminar
END:VEVENT
BEGIN:VEVENT
DTSTART;TZID=America/New_York:20221210T120000
DTEND;TZID=America/New_York:20221210T170000
DTSTAMP:20260421T165907
CREATED:20221121T055942Z
LAST-MODIFIED:20221121T055942Z
UID:2202-1670673600-1670691600@itf-usa.org
SUMMARY:Umpire Crash Course & Patterns Seminar Houston
DESCRIPTION:Patterns Seminar:\nSaturday\, December 10th\, 2022\nNoon – 5pm.\nFree to all ITF-USA members\nCONTACT: 832 800 6600\nMr. Raed Alfaleet\nwww.fitandkick.com to register
URL:https://itf-usa.org/event/umpire-crash-course-patterns-seminar-houston/
LOCATION:Fit & Kick Taekwon-Do\, 11929 University Blvd\, Sugar Land\, TX\, 77479\, United States
CATEGORIES:Seminar
ATTACH;FMTTYPE=image/jpeg:https://itf-usa.org/wp-content/uploads/2022/11/GM-Akard-Poster-for-Email.jpg
END:VEVENT
BEGIN:VEVENT
DTSTART;TZID=America/New_York:20221105T090000
DTEND;TZID=America/New_York:20221105T210000
DTSTAMP:20260421T165907
CREATED:20220726T150845Z
LAST-MODIFIED:20220726T160245Z
UID:1981-1667638800-1667682000@itf-usa.org
SUMMARY:Grand Master Akard Training Seminar
DESCRIPTION:
URL:https://itf-usa.org/event/grand-master-akard-training-seminar/
LOCATION:Westside Community Chuch\, 124 Tipton Lakes Blvd\, Columbus\, IN\, United States
CATEGORIES:Seminar
ORGANIZER;CN="Robert Vester":MAILTO:xeirpous@gmail.com
END:VEVENT
END:VCALENDAR