BEGIN:VCALENDAR
VERSION:2.0
PRODID:-//ITF-USA - ECPv6.15.20//NONSGML v1.0//EN
CALSCALE:GREGORIAN
METHOD:PUBLISH
X-ORIGINAL-URL:https://itf-usa.org
X-WR-CALDESC:Events for ITF-USA
REFRESH-INTERVAL;VALUE=DURATION:PT1H
X-Robots-Tag:noindex
X-PUBLISHED-TTL:PT1H
BEGIN:VTIMEZONE
TZID:America/New_York
BEGIN:DAYLIGHT
TZOFFSETFROM:-0500
TZOFFSETTO:-0400
TZNAME:EDT
DTSTART:20220313T070000
END:DAYLIGHT
BEGIN:STANDARD
TZOFFSETFROM:-0400
TZOFFSETTO:-0500
TZNAME:EST
DTSTART:20221106T060000
END:STANDARD
BEGIN:DAYLIGHT
TZOFFSETFROM:-0500
TZOFFSETTO:-0400
TZNAME:EDT
DTSTART:20230312T070000
END:DAYLIGHT
BEGIN:STANDARD
TZOFFSETFROM:-0400
TZOFFSETTO:-0500
TZNAME:EST
DTSTART:20231105T060000
END:STANDARD
BEGIN:DAYLIGHT
TZOFFSETFROM:-0500
TZOFFSETTO:-0400
TZNAME:EDT
DTSTART:20240310T070000
END:DAYLIGHT
BEGIN:STANDARD
TZOFFSETFROM:-0400
TZOFFSETTO:-0500
TZNAME:EST
DTSTART:20241103T060000
END:STANDARD
END:VTIMEZONE
BEGIN:VEVENT
DTSTART;VALUE=DATE:20230429
DTEND;VALUE=DATE:20230430
DTSTAMP:20260419T092538
CREATED:20230303T212811Z
LAST-MODIFIED:20230311T231821Z
UID:2376-1682726400-1682812799@itf-usa.org
SUMMARY:2023 Nationals and Qualifiers
DESCRIPTION:THERE IS a $3 CONVENIENCE FEE THAT IS AUTOMATICALLY ADDED TO THE PRICE !! \nDate Saturday – April 29th\, 2023\nPlace The Fieldhouse\n4101 Passeo Del Norte NE\, Albuquerque\nNew Mexico\, 87113 \nSchedule National Competitor Arrival 7:00 am to 7:30 am\nNational Black Belt Meetings – 7:00 am to 7:30 am\, *Important\nBlack Belt Umpire Meeting – 8:00 am Sharp\nOpening Ceremonies 9:00am \nUSA Nationals Starts 9:00am Sharp. All competitors must be checked in and ready when your name is called or you will be disqualified. It is mandatory that all black belts referee at the event. Attendance and ring assignments will happen at black belt umpire meeting. A schedule of the event will be released closer to the event. \nEligibility Only ITF schools belonging to either ITF-USA or ITFA are invited. \nProtective Gear Qualifiers – ITF approved gear only. (NO FOAMED DIPPED) \nEntry Fee’s\nIndividuals – $150.00 (1 or 2 Events) Entry Fee\nTeam Events – $25.00 per competitor (if you want the ability to be selected for a team event you MUST register for team event) ADD AT CHECKOUT \nCoaches – $60.00 Entry Fee – registered online ONLY.\nSpectator – $6.00 Kids – $2.00 Under 6 years old – Free Admission \nAge of the competitor\nYear of competition – Year of birth – 1 = Competitors´ competing age Example: Year of event 2023 – Year of birth 2005-1 = 17 → 2023 – 2005 – 1 = 17 This Competitor is only allowed to compete as a Junior \n \nNationals Registration \n \nQualifiers Registration
URL:https://itf-usa.org/event/2023-qualifiers/
LOCATION:The Fieldhouse\, 4101 Passeo Del Norte NE\, Albuquerque\, NM\, 87113\, United States
CATEGORIES:Local Tournament
END:VEVENT
END:VCALENDAR